BEGIN:VCALENDAR
VERSION:2.0
PRODID:icalendar-ruby
CALSCALE:GREGORIAN
METHOD:PUBLISH
BEGIN:VEVENT
DTSTAMP:20260420T095936Z
UID:387-93241@ubceastkillingly.com
DTSTART:20260419T133000Z
DTEND:20260419T141500Z
CLASS:PUBLIC
CREATED:20260401T185848
DESCRIPTION:
LAST-MODIFIED:20260401T185848
LOCATION:Union Baptist Church Fellowship Hall
SUMMARY:Adult Sunday School - Book of Acts
URL;VALUE=URI:https://www.ubceastkillingly.com/events/adult-sunday-school-b
 ook-of-acts--387/2026-04-19
END:VEVENT
END:VCALENDAR
