BEGIN:VCALENDAR
VERSION:2.0
PRODID:icalendar-ruby
CALSCALE:GREGORIAN
METHOD:PUBLISH
BEGIN:VEVENT
DTSTAMP:20260420T094203Z
UID:388-93242@ubceastkillingly.com
DTSTART:20260419T143000Z
DTEND:20260419T160000Z
CLASS:PUBLIC
CREATED:20260401T190033
DESCRIPTION:
LAST-MODIFIED:20260401T190033
LOCATION:Union Baptist Church Sanctuary
SUMMARY:Sunday Worship Service
URL;VALUE=URI:https://www.ubceastkillingly.com/events/sunday-worship-servic
 e--388/2026-04-19
END:VEVENT
END:VCALENDAR
